BEGIN:VCALENDAR
VERSION:2.0
PRODID:-//ChamberMaster//Event Calendar 2.0//EN
METHOD:PUBLISH
X-PUBLISHED-TTL:P3D
REFRESH-INTERVAL:P3D
CALSCALE:GREGORIAN
BEGIN:VEVENT
DTSTART:20140226T133000Z
DTEND:20140226T150000Z
X-MICROSOFT-CDO-ALLDAYEVENT:FALSE
SUMMARY:Young Professionals Event - Generations @ Work
DESCRIPTION:A core challenge over the next decade will be to attract and retain a skilled workforce.  This situation is exacerbated as companies find themselves managing four generations - each with their own distinct values and attitudes toward work.  To successfully integrate these generations in to the workplace\, companies will need to embrace radical changes in recruitment\, benefits\, and culture.\n\n\n\nIn this presentation Sarah Sladek of XYZ University will present information on how to foster a culture of collaboration\, acceptance\, and productivity\, including how to build productive multi-generational teams\, evaluate how generation-friendly your work environment is\, and implement successful management techniques for each generation.\n\n\n\nLearn more at www.smypros.com
X-ALT-DESC;FMTTYPE=text/html:A core challenge over the next decade will be to attract and retain a skilled workforce.&nbsp\; This situation is exacerbated as companies find themselves managing four generations - each with their own distinct values and attitudes toward work.&nbsp\; To successfully integrate these generations in to the workplace\, companies will need to embrace radical changes in recruitment\, benefits\, and culture.<br />\n<br />\nIn this presentation Sarah Sladek of XYZ University will present information on how to foster a culture of collaboration\, acceptance\, and productivity\, including how to build productive multi-generational teams\, evaluate how generation-friendly your work environment is\, and implement successful management techniques for each generation.<br />\n<br />\nLearn more at www.smypros.com 
LOCATION:Argosy University 1515 Central Parkway Eagan\, MN
UID:e.411.666751
SEQUENCE:3
DTSTAMP:20260425T202952Z
URL:https://members.burnsvillechamber.com/events/details/young-professionals-event-generations-work-02-26-2014-666751
END:VEVENT

END:VCALENDAR
