BEGIN:VCALENDAR
VERSION:2.0
PRODID:-//ChamberMaster//Event Calendar 2.0//EN
METHOD:PUBLISH
X-PUBLISHED-TTL:P3D
REFRESH-INTERVAL:P3D
CALSCALE:GREGORIAN
BEGIN:VEVENT
DTSTART:20141118T174500Z
DTEND:20141118T190000Z
X-MICROSOFT-CDO-ALLDAYEVENT:FALSE
SUMMARY:Yoga at Noon: Restorative Yoga Class for Reducing Daily Stress & Anxiety
DESCRIPTION:Take a time-out in the middle of the work day to enjoy a session of Restorative Yoga with the amazing team at the Justin Kukowski Center.  The only thing you'll need to bring is yourself\, and make sure to dress in yoga-appropriate clothing (fitted yoga pants\, comfortable top\, etc.) \n\n\n\nThe Justin Kukowski Center will provide the mats\, instruction and zen!\n\n\n\nRSVP is required as space is limited.  It is open only to Chamber members and costs $10\, which includes a lunch and beverage to take with you back to the office after your yoga!
X-ALT-DESC;FMTTYPE=text/html:Take a time-out in the middle of the work day to enjoy a session of Restorative Yoga with the amazing team at the Justin Kukowski Center.&nbsp\; The only thing you&#39\;ll need to bring is yourself\, and make sure to dress in yoga-appropriate clothing (fitted yoga pants\, comfortable top\, etc.)&nbsp\;<br />\n<br />\nThe Justin Kukowski Center will provide the mats\, instruction and zen!<br />\n<br />\nRSVP is required as space is limited.&nbsp\; It is open only to Chamber members and costs $10\, which includes a lunch and beverage to take with you back to the office after your yoga!
LOCATION:Justin Kukowski Center 2100 County Road 42 W Burnsville\, MN 55337 (next to Kully Supply)
UID:e.411.666886
SEQUENCE:3
DTSTAMP:20260425T040408Z
URL:https://members.burnsvillechamber.com/events/details/yoga-at-noon-restorative-yoga-class-for-reducing-daily-stress-anxiety-11-18-2014-666886
END:VEVENT

END:VCALENDAR
