BEGIN:VCALENDAR
VERSION:2.0
PRODID:-//ChamberMaster//Event Calendar 2.0//EN
METHOD:PUBLISH
X-PUBLISHED-TTL:P3D
REFRESH-INTERVAL:P3D
CALSCALE:GREGORIAN
BEGIN:VEVENT
DTSTART:20150423T153000Z
DTEND:20150423T170000Z
X-MICROSOFT-CDO-ALLDAYEVENT:FALSE
SUMMARY:Writing a Business Plan -- A Simplified Method
DESCRIPTION:Learn a simple method to create a business plan with Bob Voss\, Dakota County Technical College instructor and author of Will My New Business Succeed and 21 Question Business Plan. Sponsored in part by South Metro SCORE and US Federal Credit Union. Registration required.
X-ALT-DESC;FMTTYPE=text/html:Learn a simple method to create a business plan with Bob Voss\, Dakota County Technical College instructor and author of Will My New Business Succeed and 21 Question Business Plan. Sponsored in part by South Metro SCORE and US Federal Credit Union. Registration required.
LOCATION:Dakota County Library-Galaxie 14944 Galaxie Ave. Apple Valley\, MN 55124
UID:e.411.666939
SEQUENCE:3
DTSTAMP:20260424T191536Z
URL:https://members.burnsvillechamber.com/events/details/writing-a-business-plan-a-simplified-method-04-23-2015-666939
END:VEVENT

END:VCALENDAR
