BEGIN:VCALENDAR
VERSION:2.0
PRODID:-//ChamberMaster//Event Calendar 2.0//EN
METHOD:PUBLISH
X-PUBLISHED-TTL:P3D
REFRESH-INTERVAL:P3D
CALSCALE:GREGORIAN
BEGIN:VEVENT
DTSTART:20141120T170000Z
DTEND:20141120T190000Z
X-MICROSOFT-CDO-ALLDAYEVENT:FALSE
SUMMARY:Women Empowered Kick-Off Event
DESCRIPTION:Women Empowered is back!\n\n\n\n"Creating opportunities for women to surround themselves with other strong\, successful\, like-minded women."\n\n\n\nEvent Includes:\n\n* Event Speaker - Deb Sauder\, InterACT4Impact\, Inc.\n\n* Lunch @ Buca di Beppo\n\n* Vision Board Creation\n\n* Inspiration\n\n* Open Networking\n\n\n\nAbout Our Speaker: Deb Sauder is the CEO of InterACT4Impact\, Inc.\, as well as a Personal Development & Action Strategist for Individuals\, Professionals\, Small Businesses & Organizations.  She has decades of experience working with people of all ages in all stages of their personal and professional lives.  Deb has motivated her clients to take action in improving their lives and achieving their definition of success.  Her formal qualifications include - Certified Professional Behavioral Analyst (CPBA)\, Certified Professional Motivators Analyst (CPMA)\, Target Training International\, Ltd. Accredited Distributor\, Certified Growth Coach\, TOP Trained Facilitator\, and a Licensed Social Worker.\n\n\n\nHer company\, InterACT4Impact\, Inc. is a division of Harmony4Life\,Inc.\, which provides top of the line talent insight assessments\, Personal Development & Action Design Strategies\, Interaction Trainings and Facilitation Services.\n\n\n\nRSVP required by Tuesday\, November 18th.  Cost is $25 for Burnsville Chamber members  - $35 for non-chamber members.\n\n\n\nEvent In-Kind Sponsor - InterACT4Impact\, Inc.
X-ALT-DESC;FMTTYPE=text/html:<span style="font-size: 16px\;"><strong>Women Empowered is back!</strong></span><br />\n<br />\n<span style="font-size: 14px\;"><em>&quot\;Creating opportunities for women to surround themselves with other strong\, successful\, like-minded women.&quot\;</em></span><br />\n<br />\n<u>Event Includes</u>:<br />\n* Event Speaker - Deb Sauder\, InterACT4Impact\, Inc.<br />\n* Lunch @ Buca di Beppo<br />\n* Vision Board Creation<br />\n* Inspiration<br />\n* Open Networking<br />\n<br />\nAbout Our Speaker: Deb Sauder is the CEO of InterACT4Impact\, Inc.\, as well as a Personal Development &amp\; Action Strategist for Individuals\, Professionals\, Small Businesses &amp\; Organizations.&nbsp\; She has decades of experience working with people of all ages in all stages of their personal and professional lives.&nbsp\; Deb has motivated her clients to take action in improving their lives and achieving their definition of success.&nbsp\; Her formal qualifications include - Certified Professional Behavioral Analyst (CPBA)\, Certified Professional Motivators Analyst (CPMA)\, Target Training International\, Ltd. Accredited Distributor\, Certified Growth Coach\, TOP Trained Facilitator\, and a Licensed Social Worker.<br />\n<br />\nHer company\, InterACT4Impact\, Inc. is a division of Harmony4Life\,Inc.\, which provides top of the line talent insight assessments\, Personal Development &amp\; Action Design Strategies\, Interaction Trainings and Facilitation Services.<br />\n<br />\nRSVP required by Tuesday\, November 18th.&nbsp\; Cost is $25 for Burnsville Chamber members&nbsp\; - $35 for non-chamber members.<br />\n<br />\nEvent In-Kind Sponsor - InterACT4Impact\, Inc.
LOCATION:Buca di Beppo 14300 Burnhaven Drive Burnsville\, MN 55306
UID:e.411.666883
SEQUENCE:3
DTSTAMP:20260425T040102Z
URL:https://members.burnsvillechamber.com/events/details/women-empowered-kick-off-event-11-20-2014-666883
END:VEVENT

END:VCALENDAR
