BEGIN:VCALENDAR
VERSION:2.0
PRODID:-//ChamberMaster//Event Calendar 2.0//EN
METHOD:PUBLISH
X-PUBLISHED-TTL:P3D
REFRESH-INTERVAL:P3D
CALSCALE:GREGORIAN
BEGIN:VEVENT
DTSTART:20140723T130000Z
DTEND:20140723T164500Z
X-MICROSOFT-CDO-ALLDAYEVENT:FALSE
SUMMARY:US Federal Credit Union Community Blood Drive
DESCRIPTION:Join us to help save more lives in need! To sign up to donate go online:  mbc.org/searchdrives and click All Star Donor Club\, enter sponsor code 9820.\n\n\n\n\n\nThree Reasons to Donate:\n\n1. The need for blood is constant.\n\n2. 1 in 3 people will need blood in their lifetime.\n\n3. Your donation could help save 3 lives.
X-ALT-DESC;FMTTYPE=text/html:Join us to help save more lives in need! To sign up to donate go online:&nbsp\; mbc.org/searchdrives and click All Star Donor Club\, enter sponsor code 9820.<br type="_moz" />\n<br />\n<br />\nThree Reasons to Donate:<br />\n1. The need for blood is constant.<br />\n2. 1 in 3 people will need blood in their lifetime.<br />\n3. Your donation could help save 3 lives.<br />\n<br />\n&nbsp\;
LOCATION:US Federal Credit Union 1400 Riverwood Drive Burnsville\, MN 55337
UID:e.411.666819
SEQUENCE:3
DTSTAMP:20260425T110429Z
URL:https://members.burnsvillechamber.com/events/details/us-federal-credit-union-community-blood-drive-07-23-2014-666819
END:VEVENT

END:VCALENDAR
