BEGIN:VCALENDAR
VERSION:2.0
PRODID:-//ChamberMaster//Event Calendar 2.0//EN
METHOD:PUBLISH
X-PUBLISHED-TTL:P3D
REFRESH-INTERVAL:P3D
CALSCALE:GREGORIAN
BEGIN:VEVENT
DTSTART:20150414T213000Z
DTEND:20150414T233000Z
X-MICROSOFT-CDO-ALLDAYEVENT:FALSE
SUMMARY:Trend Chaser vs Style Makers
DESCRIPTION:Join ASID Minnesota for an inspirational discussion on Trend Chasers vs. Style Makers.What do Coco Chanel\, Andy Warhol\, Jackie Kennedy and Madonna have in common? They are all genuine fashion icons whose style permeates every aspect of their being. How did they develop this style? How can we develop our own personal style and infuse it into our home\, fashion and life? Four influential Twin Cities designers\, each with their own unique style\, are participating in a one-of-a-kind event at Twin Cities Design Week to share this information with the general public. Following the discussion\, participants can walk through seven displays of iconic design\, created by the best local interior design firms. The design displays will help people identify their personal style while the advice from local designers will help those in attendance put their style to action in their own lives.
X-ALT-DESC;FMTTYPE=text/html:Join ASID Minnesota for an inspirational discussion on Trend Chasers vs. Style Makers.What do Coco Chanel\, Andy Warhol\, Jackie Kennedy and Madonna have in common? They are all genuine fashion icons whose style permeates every aspect of their being. How did they develop this style? How can we develop our own personal style and infuse it into our home\, fashion and life? Four influential Twin Cities designers\, each with their own unique style\, are participating in a one-of-a-kind event at Twin Cities Design Week to share this information with the general public. Following the discussion\, participants can walk through seven displays of iconic design\, created by the best local interior design firms. The design displays will help people identify their personal style while the advice from local designers will help those in attendance put their style to action in their own lives.
LOCATION:International Market Square
UID:e.411.666938
SEQUENCE:3
DTSTAMP:20260424T191506Z
URL:https://members.burnsvillechamber.com/events/details/trend-chaser-vs-style-makers-04-14-2015-666938
END:VEVENT

END:VCALENDAR
