BEGIN:VCALENDAR
VERSION:2.0
PRODID:-//ChamberMaster//Event Calendar 2.0//EN
METHOD:PUBLISH
X-PUBLISHED-TTL:P3D
REFRESH-INTERVAL:P3D
CALSCALE:GREGORIAN
BEGIN:VEVENT
DTSTART:20150312T120000Z
DTEND:20150312T133000Z
X-MICROSOFT-CDO-ALLDAYEVENT:FALSE
SUMMARY:Support the Blaze! Burnsville High School Scoreboard Project - Info Breakfast
DESCRIPTION:The Burnsville High School is holding an informational breakfast to discuss the exciting opportunities to have your logo displayed on their new scoreboard! Come out\, learn a little\, enjoy breakfast\, and show your support for the Burnsville Blaze!
X-ALT-DESC;FMTTYPE=text/html:The Burnsville High School is holding an informational breakfast to discuss the exciting opportunities to have your logo displayed on their new scoreboard! Come out\, learn a little\, enjoy breakfast\, and show your support for the Burnsville Blaze!
LOCATION:Ames Center 12600 Nicollet Ave Burnsville
UID:e.411.666928
SEQUENCE:3
DTSTAMP:20260424T210741Z
URL:https://members.burnsvillechamber.com/events/details/support-the-blaze-burnsville-high-school-scoreboard-project-info-breakfast-03-12-2015-666928
END:VEVENT

END:VCALENDAR
