BEGIN:VCALENDAR
VERSION:2.0
PRODID:-//ChamberMaster//Event Calendar 2.0//EN
METHOD:PUBLISH
X-PUBLISHED-TTL:P3D
REFRESH-INTERVAL:P3D
CALSCALE:GREGORIAN
BEGIN:VEVENT
DTSTART:20140424T220000Z
DTEND:20140425T000000Z
X-MICROSOFT-CDO-ALLDAYEVENT:FALSE
SUMMARY:Splash Day 2014 @ Southwind Village Apartments By the Pool
DESCRIPTION:Southwind Village Apartments will host our annual fundraiser - Splash Day @ Southwind Village Apartments By the Pool.  This festive celebration is supported by our residents and associates from VillageGreen's apartment communities who enthusiastically collect pledges to take a plunge into our chilly pools for a local charity's benefit.\n\n\n\nThis year\, Village Green's Splash Day is raising funds for The Ronald McDonald House.\n\n\n\nVillage Green's Splash Day first began 23 years ago with a dare.  Because we traditionally open our apartment community pools in April\, often before swimming-friendly weather\, a manager accepted a dare to take the plunge\, but only on the condition that donations would be made to a worthy cause.\n\n\n\nSince that time\, the event has grown each year.  Our past Splash Day celebrations across the Midwest have generated significant contributions to various charities - up to $20\,000 in each region.  This year we are setting out to do the same and\, once again\, make a bigger splash than the year before.  Our goal is to raise $6\,000 for The Ronald McDonald House and we hope you will join our team in giving back to these families.\n\n\n\nIt will be an evening of fun\, food & fundraising!\n\n\n\nIf you or your business is interested in attending and/or donating\, please contact Brianna @ Southwind Village Apartments.
X-ALT-DESC;FMTTYPE=text/html:<p>Southwind Village Apartments will host&nbsp\;our annual fundraiser - Splash Day @ Southwind Village Apartments By the Pool.&nbsp\; This festive celebration is supported by our residents and associates from VillageGreen&#39\;s apartment communities who enthusiastically collect pledges to take a plunge into our chilly pools for a local charity&#39\;s benefit.<br />\n<br />\nThis year\, Village Green&#39\;s Splash Day is raising funds for The Ronald McDonald House.<br />\n<br />\nVillage Green&#39\;s Splash Day first began 23 years ago with a dare.&nbsp\; Because we traditionally open our apartment community pools in April\, often before swimming-friendly weather\, a manager accepted a dare to take the plunge\, but only on the condition that donations would be made to a worthy cause.<br />\n<br />\nSince that time\, the event has grown each year.&nbsp\; Our past Splash Day celebrations across the Midwest have generated significant contributions to various charities - up to $20\,000 in each region.&nbsp\; This year we are setting out to do the same and\, once again\, make a bigger splash than the year before.&nbsp\; Our goal is to raise $6\,000 for The Ronald McDonald House and we hope you will join our team in giving back to these families.<br />\n<br />\nIt will be an evening of fun\, food &amp\; fundraising!<br />\n<br />\nIf you or your business is interested in attending and/or donating\, please contact Brianna @ Southwind Village Apartments.</p>\n
LOCATION:Southwind Village Apartments 15025 Greenhaven Drive Burnsville\, MN 55306
UID:e.411.666785
SEQUENCE:3
DTSTAMP:20260425T163448Z
URL:https://members.burnsvillechamber.com/events/details/splash-day-2014-southwind-village-apartments-by-the-pool-04-24-2014-666785
END:VEVENT

END:VCALENDAR
