BEGIN:VCALENDAR
VERSION:2.0
PRODID:-//ChamberMaster//Event Calendar 2.0//EN
METHOD:PUBLISH
X-PUBLISHED-TTL:P3D
REFRESH-INTERVAL:P3D
CALSCALE:GREGORIAN
BEGIN:VEVENT
DTSTART:20140528T123000Z
DTEND:20140528T143000Z
X-MICROSOFT-CDO-ALLDAYEVENT:FALSE
SUMMARY:SMYPros Professional Development Event: Personality Traits/DiSC Assessment
DESCRIPTION:Patricia Darke\, President of Darke & Associates\, helps companies make the best use of the talents of the people who work within them.  Patty is known for bottom line results and a maximum  return on your people investment. \n\n\n\nShe developed a keen interest in training\, motivating and development of people.  In 2005 she started her own Consulting firm\, Darke and Associates: http://www.darkeassociates.com where she works with clients as large as Fortune 100 companies to small privately held organizations. \n\n\n\nHer education was at the College of St. Benedict and the University of Minnesota.  Patty is a licensed provider of Profiles International Selection\, Retention\, Coaching and Succession Planning tools.\n\n\n\nThis meeting is an in-depth look at each SMYPros member's DiSC Assessment and further discussion on the way in which we successfully work with all types of personality traits.
X-ALT-DESC;FMTTYPE=text/html:Patricia Darke\, President of Darke &amp\; Associates\, helps companies make the best use of the talents of the people who work within them.&nbsp\; Patty is known for bottom line results and a maximum&nbsp\; return on your people investment.&nbsp\;<br />\n<br />\nShe developed a keen interest in training\, motivating and development of people.&nbsp\; In 2005 she started her own Consulting firm\, Darke and Associates: http://www.darkeassociates.com where she works with clients as large as Fortune 100 companies to small privately held organizations.&nbsp\;<br />\n<br />\nHer education was at the College of St. Benedict and the University of Minnesota.&nbsp\; Patty&nbsp\;is a licensed provider of Profiles International Selection\, Retention\, Coaching and Succession Planning tools.<br />\n<br />\nThis meeting is an in-depth look at each SMYPros member&#39\;s DiSC Assessment and further discussion on the way in which we successfully work with all types of personality traits.
LOCATION:Better Business Bureau 220 S River Ridge Circle Burnsville\, MN 55337
UID:e.411.666801
SEQUENCE:3
DTSTAMP:20260425T145453Z
URL:https://members.burnsvillechamber.com/events/details/smypros-professional-development-event-personality-traits-disc-assessment-05-28-2014-666801
END:VEVENT

END:VCALENDAR
