BEGIN:VCALENDAR
VERSION:2.0
PRODID:-//ChamberMaster//Event Calendar 2.0//EN
METHOD:PUBLISH
X-PUBLISHED-TTL:P3D
REFRESH-INTERVAL:P3D
CALSCALE:GREGORIAN
BEGIN:VEVENT
DTSTART:20140723T213000Z
DTEND:20140723T230000Z
X-MICROSOFT-CDO-ALLDAYEVENT:FALSE
SUMMARY:SMYPros July 23rd Event @ Casper's Cherokee of Eagan
DESCRIPTION:This month for our South Metro Young Professionals ("SMYPros") event we will be kicking back and networking at a Happy Hour in Eagan! Casper's will provide free nachos and tacos as well as $2 drinks.  SMYPros has a spot on the patio reserved! Cheers!
X-ALT-DESC;FMTTYPE=text/html:This month for our South Metro Young Professionals (&quot\;SMYPros&quot\;) event we will be kicking back and networking at a Happy Hour in Eagan! Casper&#39\;s will provide free nachos and tacos as well as $2 drinks.&nbsp\; SMYPros has a spot on the patio reserved! Cheers!
LOCATION:Casper's Cherokee of Eagan 4625 Nicols Road Eagan\, MN 55122
UID:e.411.666820
SEQUENCE:3
DTSTAMP:20260425T110256Z
URL:https://members.burnsvillechamber.com/events/details/smypros-july-23rd-event-casper-s-cherokee-of-eagan-07-23-2014-666820
END:VEVENT

END:VCALENDAR
