BEGIN:VCALENDAR
VERSION:2.0
PRODID:-//ChamberMaster//Event Calendar 2.0//EN
METHOD:PUBLISH
X-PUBLISHED-TTL:P3D
REFRESH-INTERVAL:P3D
CALSCALE:GREGORIAN
BEGIN:VEVENT
DTSTART:20140605T153000Z
DTEND:20140605T170000Z
X-MICROSOFT-CDO-ALLDAYEVENT:FALSE
SUMMARY:Raising Capital for Small Businesses
DESCRIPTION:Representatives from local banks\, savings and loans\, and the Small Business Administration will present lending opportunities for small businesses followed by a question and answer and consultation period. Sponsored in part by South Metro SCORE.
X-ALT-DESC;FMTTYPE=text/html:Representatives from local banks\, savings and loans\, and the Small Business Administration will present lending opportunities for small businesses followed by a question and answer and consultation period. Sponsored in part by South Metro SCORE.
LOCATION:Dakota County Library-Galaxie 14955 Galaxie Ave. Apple Valley\, MN 55124
UID:e.411.666802
SEQUENCE:3
DTSTAMP:20260425T131301Z
URL:https://members.burnsvillechamber.com/events/details/raising-capital-for-small-businesses-06-05-2014-666802
END:VEVENT

END:VCALENDAR
