BEGIN:VCALENDAR
VERSION:2.0
PRODID:-//ChamberMaster//Event Calendar 2.0//EN
METHOD:PUBLISH
X-PUBLISHED-TTL:P3D
REFRESH-INTERVAL:P3D
CALSCALE:GREGORIAN
BEGIN:VEVENT
DTSTART;VALUE=DATE:20140222
DTEND;VALUE=DATE:20140223
TRANSP:TRANSPARENT
X-MICROSOFT-CDO-ALLDAYEVENT:TRUE
SUMMARY:Polar Bear Plunge
DESCRIPTION:The Polar Bear Plunge is back! Plungers will hurl themselves into the frigid water of Crystal Lake and 15 other locations across the state to raise money for Special Olympics Minnesota.
X-ALT-DESC;FMTTYPE=text/html:The Polar Bear Plunge is back! Plungers will hurl themselves into the frigid water of Crystal Lake and 15 other locations across the state to raise money for Special Olympics Minnesota.&nbsp\;
LOCATION:Crystal Beach
UID:e.411.666716
SEQUENCE:3
DTSTAMP:20260425T193649Z
URL:https://members.burnsvillechamber.com/events/details/polar-bear-plunge-02-22-2014-666716
END:VEVENT

END:VCALENDAR
