BEGIN:VCALENDAR
VERSION:2.0
PRODID:-//ChamberMaster//Event Calendar 2.0//EN
METHOD:PUBLISH
X-PUBLISHED-TTL:P3D
REFRESH-INTERVAL:P3D
CALSCALE:GREGORIAN
BEGIN:VEVENT
DTSTART:20141112T140000Z
DTEND:20141112T150000Z
X-MICROSOFT-CDO-ALLDAYEVENT:FALSE
SUMMARY:November 12th\, 2014 - AM Coffee Break @ King and Companies
DESCRIPTION:Enjoy coffee and networking with fellow Burnsville chamber members\, courtesy of King & Companies!
X-ALT-DESC;FMTTYPE=text/html:Enjoy coffee and networking with fellow Burnsville chamber members\, courtesy of King &amp\; Companies!
LOCATION:King and Companies 150 E Travelers Trail\, Suite C Burnsville
UID:e.411.666837
SEQUENCE:3
DTSTAMP:20260425T040221Z
URL:https://members.burnsvillechamber.com/events/details/november-12th-2014-am-coffee-break-king-and-companies-11-12-2014-666837
END:VEVENT

END:VCALENDAR
