BEGIN:VCALENDAR
VERSION:2.0
PRODID:-//ChamberMaster//Event Calendar 2.0//EN
METHOD:PUBLISH
X-PUBLISHED-TTL:P3D
REFRESH-INTERVAL:P3D
CALSCALE:GREGORIAN
BEGIN:VEVENT
DTSTART;VALUE=DATE:20140601
DTEND;VALUE=DATE:20140602
TRANSP:TRANSPARENT
X-MICROSOFT-CDO-ALLDAYEVENT:TRUE
SUMMARY:Nominations OPEN for 2014 Burnsville Garden & Landscape Contest
DESCRIPTION:The Burnsville Convention & Visitors Bureau (BCVB) together with Cal's Market & Garden Center\, proudly presents the 2014 Garden & Landscape Contest for Burnsville residents and businesses. Beginning June 1\, 2014 Burnsville residents and businesses can nominate their favorite homes\, neighborhoods and Burnsville businesses that they feel have impeccable landscaping or gardening.\n\n\n\nTo qualify\, nominees must be located within Burnsville City Limits\, be visible from the street and match criteria for the submitted category. The top three entries in each category will receive the following: $100 Gift Card to Cal's Market & Garden Center (1st Place)\, $50 Gift Card to a Burnsville Restaurant (2nd Place)\, and 4 tickets to the Minnesota Landscape Arboretum (3rd Place). \n\n\n\nTo submit a nomination\,visit www.burnsvillemn.com/Garden-Contest.cfm  or pick up a form at any of the following locations: Burnsville Convention and Visitors Bureau\, Burnsville City Hall\, Cal's Market and Garden Center and Jo Jo's Rise & Wine. All submissions must be accompanied by a photo to be considered. Nominations will be accepted through June 30\, 2014. Winners will be notified via phone.
X-ALT-DESC;FMTTYPE=text/html:The Burnsville Convention &amp\; Visitors Bureau (BCVB) together with Cal&#39\;s Market &amp\; Garden Center\, proudly presents the 2014 Garden &amp\; Landscape Contest for Burnsville residents and businesses. Beginning June 1\, 2014&nbsp\;Burnsville residents and businesses can nominate their favorite homes\, neighborhoods and Burnsville businesses that they feel have impeccable landscaping or gardening.<br />\n<br />\nTo qualify\, nominees must be located within&nbsp\;Burnsville City Limits\, be visible from the street and match criteria for the submitted category.&nbsp\;The top three entries in each category will receive the&nbsp\;following: $100 Gift Card to Cal&rsquo\;s Market &amp\; Garden Center (1st Place)\, $50 Gift Card to a Burnsville Restaurant (2nd Place)\, and 4&nbsp\;tickets to the Minnesota Landscape Arboretum (3rd Place).&nbsp\;<br />\n<br />\nTo submit a nomination\,visit <a href="http://www.burnsvillemn.com/Garden-Contest.cfm" linktype="1" style="color: rgb(84\, 84\, 84) !important\;" target="_blank" track="on">www.burnsvillemn.com/Garden-Contest.cfm </a> or pick up a form at any&nbsp\;of the following locations: Burnsville Convention and Visitors Bureau\, Burnsville City Hall\, Cal&rsquo\;s&nbsp\;Market and Garden Center and Jo Jo&rsquo\;s Rise &amp\; Wine. All submissions must be accompanied by a&nbsp\;photo to be considered. Nominations will be accepted through June 30\, 2014. Winners will be notified&nbsp\;via phone.
LOCATION:Residents and Businesses within the City of Burnsville\, MN.
UID:e.411.666794
SEQUENCE:3
DTSTAMP:20260425T125355Z
URL:https://members.burnsvillechamber.com/events/details/nominations-open-for-2014-burnsville-garden-landscape-contest-06-01-2014-666794
END:VEVENT

END:VCALENDAR
