BEGIN:VCALENDAR
VERSION:2.0
PRODID:-//ChamberMaster//Event Calendar 2.0//EN
METHOD:PUBLISH
X-PUBLISHED-TTL:P3D
REFRESH-INTERVAL:P3D
CALSCALE:GREGORIAN
BEGIN:VEVENT
DTSTART:20131120T180000Z
DTEND:20131120T193000Z
X-MICROSOFT-CDO-ALLDAYEVENT:FALSE
SUMMARY:Meet the South Metro Young Professionals
DESCRIPTION:Are you between the ages of 20 and 40? Are you looking for new ways to enhance your skills by developing professional knowledge\, engaging in business and community events and networking with similar-aged professionals? Then the South Metro Young Professionals is the perfect group for you! \n\n	Employers\, would you like to help your Young Professionals expand their network\, develop new business relationships and enhance their professional skills? Invite them to join the SMYPros and we can assist them in doing so! \n\n	We invite you to "Meet the South Metro Young Professionals\," a newly formed group of the Burnsville and Dakota County Regional Chambers of Commerce aimed at enhancing skills necessary for today's Young Professionals to grow and succeed. Enjoy pizza and pop while learning about the opportunity to join this great group of young professionals.\n\n	\n\n	Click here for more details.
X-ALT-DESC;FMTTYPE=text/html:<p align="LEFT">\n	<span style="font-size: 12px\;"><span style="font-family: arial\;"><font color="#20201f"><font color="#20201f">Are you between the ages of 20 and 40? Are you looking for new ways to enhance your skills by developing professional knowledge\, engaging in business and community events and networking with similar-aged professionals? Then the South Metro Young Professionals is the perfect group for you! </font></font></span></span></p>\n<p>\n	<span style="font-size: 12px\;"><span style="font-family: arial\;"><font color="#20201f"><font color="#20201f">Employers\, </font></font><font color="#212121"><font color="#212121">would you like to help your Young Professionals expand their network\, develop new business relationships and enhance their professional skills? Invite them to join the SMYPros and we can assist them in doing so! </font></font></span></span></p>\n<p>\n	<span style="font-size: 12px\;"><span style="font-family: arial\;"><font color="#20201f"><font color="#20201f">We invite you to &quot\;Meet the South Metro Young Professionals\,&quot\; a newly formed group of the Burnsville and Dakota County Regional Chambers of Commerce aimed at enhancing skills necessary for today&rsquo\;s Young Professionals to grow and succeed. Enjoy pizza and pop while learning about the opportunity to join this great group of young professionals.<br />\n	<br />\n	Click <a href="http://cloud.chambermaster.com/userfiles/UserFiles/chambers/411/File/BYP_Events/MeettheSMYProsFlyer-MB.pdf">here</a> for more details.</font></font></span></span></p>\n
LOCATION:Better Business Bureau 220 South River Ridge Circle Burnsville\, MN 55337
UID:e.411.666715
SEQUENCE:3
DTSTAMP:20260426T005730Z
URL:https://members.burnsvillechamber.com/events/details/meet-the-south-metro-young-professionals-11-20-2013-666715
END:VEVENT

END:VCALENDAR
