BEGIN:VCALENDAR
VERSION:2.0
PRODID:-//ChamberMaster//Event Calendar 2.0//EN
METHOD:PUBLISH
X-PUBLISHED-TTL:P3D
REFRESH-INTERVAL:P3D
CALSCALE:GREGORIAN
BEGIN:VEVENT
DTSTART;VALUE=DATE:20141107
DTEND;VALUE=DATE:20141108
TRANSP:TRANSPARENT
X-MICROSOFT-CDO-ALLDAYEVENT:TRUE
SUMMARY:MakeUp Master Class @ The Hair District
DESCRIPTION:The Hair District Burnsville invites you to join them for a Make Up Master Class! Learn how to achieve a flawless look for both day and evening with their Colorscience beauty essentials! \n\n\n\nThere is a $50 fee to hold your spot.  That money will go towards any make up purchases that evening.  Spots are limited so reserve your time today!
X-ALT-DESC;FMTTYPE=text/html:The Hair District Burnsville invites you to join them for a Make Up Master Class! Learn how to achieve a flawless look for both day and evening with their Colorscience beauty essentials!&nbsp\;<br />\n<br />\nThere is a $50 fee to hold your spot.&nbsp\; That money will go towards any make up purchases that evening.&nbsp\; Spots are limited so reserve your time today!
LOCATION:The Hair District Burnsville 12700 Nicollet Ave Burnsville\, MN
UID:e.411.666859
SEQUENCE:3
DTSTAMP:20260425T035357Z
URL:https://members.burnsvillechamber.com/events/details/makeup-master-class-the-hair-district-11-07-2014-666859
END:VEVENT

END:VCALENDAR
