BEGIN:VCALENDAR
VERSION:2.0
PRODID:-//ChamberMaster//Event Calendar 2.0//EN
METHOD:PUBLISH
X-PUBLISHED-TTL:P3D
REFRESH-INTERVAL:P3D
CALSCALE:GREGORIAN
BEGIN:VEVENT
DTSTART:20131010T163000Z
DTEND:20131010T183000Z
X-MICROSOFT-CDO-ALLDAYEVENT:FALSE
SUMMARY:Lunch & Learn at One 2 One Marketing\, Inc.
DESCRIPTION:Lunch & Learn\n\n	 \n\n	Save the Date\n\n	Oct. 10th\, 2013\n\n	 \n\n	12101 12th Avenue South\n\n	Burnsville\, MN  55337\n\n	 \n\n	It's about:\n\n	 \n\n	*Logo'd Corporate and Event Apparel*\n\n	 \n\n	*Sneak Peek of Hot Trends and Name Brands for 2014*\n\n	 \n\n	*Innovative Decoration Ideas*\n\n	 \n\n	*Free Lunch*\n\n	 \n\n	Join us from 11:30 to 1:30 for Lunch\, Learning and Door Prizes!\n\n	 \n\n	Please RSVP by 9/26/13
X-ALT-DESC;FMTTYPE=text/html:<br />\n&nbsp\;\n<div style="text-align: center\;">\n	<span style="font-size: 26pt\;"><span style="color: rgb(118\, 146\, 60)\;"><span style="font-family: arial\, sans-serif\;">Lunch &amp\; Learn</span></span></span><br />\n	&nbsp\;<br />\n	<strong><em><span style="font-size: 26pt\;"><span style="color: rgb(227\, 108\, 10)\;"><span style="font-family: arial\, sans-serif\;">Save the Date</span></span></span></em></strong><br />\n	<strong><em><span style="font-size: 26pt\;"><span style="color: rgb(227\, 108\, 10)\;"><span style="font-family: arial\, sans-serif\;">Oct. 10th\, 2013</span></span></span></em></strong><br />\n	&nbsp\;<br />\n	<strong><em><span style="font-size: 16pt\;"><span style="color: rgb(155\, 187\, 89)\;"><span style="font-family: arial\, sans-serif\;">12101 12<sup>th</sup> Avenue South</span></span></span></em></strong><br />\n	<strong><em><span style="font-size: 16pt\;"><span style="color: rgb(155\, 187\, 89)\;"><span style="font-family: arial\, sans-serif\;">Burnsville\, MN&nbsp\; 55337</span></span></span></em></strong><br />\n	&nbsp\;<br />\n	<strong><span style="font-size: 16pt\;"><span style="color: rgb(54\, 95\, 145)\;"><span style="font-family: arial\, sans-serif\;">It&rsquo\;s </span></span></span></strong><strong><span style="font-size: 16pt\;"><span style="color: rgb(31\, 73\, 125)\;"><span style="font-family: arial\, sans-serif\;">a</span></span></span></strong><strong><span style="font-size: 16pt\;"><span style="color: rgb(54\, 95\, 145)\;"><span style="font-family: arial\, sans-serif\;">bout:</span></span></span></strong><br />\n	&nbsp\;<br />\n	<strong><span style="font-size: 14pt\;"><span style="color: rgb(54\, 95\, 145)\;"><span style="font-family: arial\, sans-serif\;">*Logo&rsquo\;d Corporate and Event Apparel*</span></span></span></strong><br />\n	&nbsp\;<br />\n	<strong><span style="font-size: 14pt\;"><span style="color: rgb(54\, 95\, 145)\;"><span style="font-family: arial\, sans-serif\;">*Sneak Peek of Hot Trends and Name Brands for 2014*</span></span></span></strong><br />\n	&nbsp\;<br />\n	<strong><span style="font-size: 14pt\;"><span style="color: rgb(54\, 95\, 145)\;"><span style="font-family: arial\, sans-serif\;">*Innovative Decoration Ideas*</span></span></span></strong><br />\n	&nbsp\;<br />\n	<strong><span style="font-size: 14pt\;"><span style="color: rgb(54\, 95\, 145)\;"><span style="font-family: arial\, sans-serif\;">*Free Lunch*</span></span></span></strong><br />\n	&nbsp\;<br />\n	<strong><em><span style="font-size: 14pt\;"><span style="color: rgb(227\, 108\, 10)\;"><span style="font-family: arial\, sans-serif\;">Join us from 11:30 to 1:30 for Lunch\, Learning and Door Prizes!</span></span></span></em></strong><br />\n	&nbsp\;<br />\n	<strong><em><span style="font-size: 14pt\;"><span style="color: navy\;"><span style="font-family: arial\, sans-serif\;">Please RSVP by 9/26/13</span></span></span></em></strong><br />\n	&nbsp\;</div>\n
LOCATION:One 2 One Marketing\, Inc. 12101 12th Avenue South Burnsville\, MN 55337
UID:e.411.666696
SEQUENCE:3
DTSTAMP:20260426T022539Z
URL:https://members.burnsvillechamber.com/events/details/lunch-learn-at-one-2-one-marketing-inc-10-10-2013-666696
END:VEVENT

END:VCALENDAR
