BEGIN:VCALENDAR
VERSION:2.0
PRODID:-//ChamberMaster//Event Calendar 2.0//EN
METHOD:PUBLISH
X-PUBLISHED-TTL:P3D
REFRESH-INTERVAL:P3D
CALSCALE:GREGORIAN
BEGIN:VEVENT
DTSTART:20150120T173000Z
DTEND:20150120T190000Z
X-MICROSOFT-CDO-ALLDAYEVENT:FALSE
SUMMARY:Lunch & Learn: Aquaponics and The Future of Water Treatment
DESCRIPTION:Have you ever been curious about Aquaponics? Let Reid Larson\, owner of Aquaponic Depot explain more to you about the intricate processes of aquaponics and see a glimpse of how this unique system can change the future of food production\, among other things. \n\n\n\nFree to attend.  Open to Chamber members.  Must RSVP by Friday\, January 16th to Jina at the Burnsville Chamber - 952.435.6000.
X-ALT-DESC;FMTTYPE=text/html:Have you ever been curious about Aquaponics? Let Reid Larson\, owner of Aquaponic Depot explain more to you about the intricate processes of aquaponics and see a glimpse of how this unique system can change the future of food production\, among other things.&nbsp\;<br />\n<br />\nFree to attend.&nbsp\; Open to Chamber members.&nbsp\; Must RSVP by Friday\, January 16th to Jina at the Burnsville Chamber - 952.435.6000.
LOCATION:Better Business Bureau 220 South River Ridge Circle Burnsville
UID:e.411.666904
SEQUENCE:3
DTSTAMP:20260425T004601Z
URL:https://members.burnsvillechamber.com/events/details/lunch-learn-aquaponics-and-the-future-of-water-treatment-01-20-2015-666904
END:VEVENT

END:VCALENDAR
