BEGIN:VCALENDAR
VERSION:2.0
PRODID:-//ChamberMaster//Event Calendar 2.0//EN
METHOD:PUBLISH
X-PUBLISHED-TTL:P3D
REFRESH-INTERVAL:P3D
CALSCALE:GREGORIAN
BEGIN:VEVENT
DTSTART:20150225T140000Z
DTEND:20150225T160000Z
X-MICROSOFT-CDO-ALLDAYEVENT:FALSE
SUMMARY:Lonny Kocina's Marketing Term Tune Up Workshop
DESCRIPTION:31 Marketing terms guaranteed to make you a smarter marketer
X-ALT-DESC;FMTTYPE=text/html:31 Marketing terms guaranteed to make you a smarter marketer
LOCATION:Media Relations\, Inc. 350 W Burnsville Parkway\, Suite 350\, Burnsville\, MN 55337 United States
UID:e.411.666908
SEQUENCE:3
DTSTAMP:20260424T224920Z
URL:https://members.burnsvillechamber.com/events/details/lonny-kocina-s-marketing-term-tune-up-workshop-02-25-2015-666908
END:VEVENT

END:VCALENDAR
