BEGIN:VCALENDAR
VERSION:2.0
PRODID:-//ChamberMaster//Event Calendar 2.0//EN
METHOD:PUBLISH
X-PUBLISHED-TTL:P3D
REFRESH-INTERVAL:P3D
CALSCALE:GREGORIAN
BEGIN:VEVENT
DTSTART:20140423T200000Z
DTEND:20140423T230000Z
X-MICROSOFT-CDO-ALLDAYEVENT:FALSE
SUMMARY:Leadership & Rebrand of Old Country Buffet with Ovation Brands CEO\, Anthony Wedo
DESCRIPTION:Please join us and listen to Anthony Wedo\, CEO of Ovation Brands as he presents about leadership and the rebranding process of the well-known Old Country Buffet.  \n\n \n\nNot only will you receive insight in to the process of rebranding and marketing a brand that is re-energized and changing\, but you will also be able to sample some of the new and improved cuisine of Old Country Buffet! \n\n \n\nStay after the presentation for a social and cash bar.
X-ALT-DESC;FMTTYPE=text/html:<span style="font-size: medium\;"><span style="font-family: calibri\;">Please join us and listen to Anthony Wedo\, CEO of Ovation Brands as he&nbsp\;presents about leadership and the rebranding process of the well-known Old Country Buffet.&nbsp\; </span></span><br />\n&nbsp\;<br />\n<span style="font-size: medium\;"><span style="font-family: calibri\;">Not only will you receive insight in to the process of rebranding and marketing a brand that is re-energized and changing\, but you will also be able to sample some of the new and improved cuisine of Old Country Buffet! </span></span><br />\n&nbsp\;<br />\n<span style="font-size: medium\;"><span style="font-family: calibri\;">Stay after the presentation for a social and cash bar.</span></span><br />\n&nbsp\;
LOCATION:Ames Center 12600 Nicollet Ave Burnsville\, MN 55337 952.895.4685
UID:e.411.666786
SEQUENCE:3
DTSTAMP:20260425T163646Z
URL:https://members.burnsvillechamber.com/events/details/leadership-rebrand-of-old-country-buffet-with-ovation-brands-ceo-anthony-wedo-04-23-2014-666786
END:VEVENT

END:VCALENDAR
