BEGIN:VCALENDAR
VERSION:2.0
PRODID:-//ChamberMaster//Event Calendar 2.0//EN
METHOD:PUBLISH
X-PUBLISHED-TTL:P3D
REFRESH-INTERVAL:P3D
CALSCALE:GREGORIAN
BEGIN:VEVENT
DTSTART:20140625T121500Z
DTEND:20140625T143000Z
X-MICROSOFT-CDO-ALLDAYEVENT:FALSE
SUMMARY:June 2014 SMYPros Meeting - Personality DiSC Assessments\, Part 2
DESCRIPTION:This event is part 2 of our program with Patti Darke\, President of Darke & Associates.  She helps companies make the best use of their talents of the people who work within them.  Patty is known for bottom line results and a maximum return on your people investment.  She developed a keen interest in the training\, motivating and development of people.  In 2005 she started her own Consulting firm\, Darke and Associates - www.darkeassociates.com where she works with clients as large as Fortune 100 companies to small privately held organizations.  Her education was at the College of St. Benedict and the University of Minnesota.  Patty is a licensed provider of Profiles International Selection\, Retention\, Coaching and Succession Planning tools.
X-ALT-DESC;FMTTYPE=text/html:<div style="color: gray\;">This event is part 2 of our program with Patti Darke\, President of Darke &amp\; Associates.&nbsp\; She helps companies make the best use of their talents of the people who work within them.&nbsp\; Patty is known for bottom line results and a maximum return on your people investment.&nbsp\; She developed a keen interest in the training\, motivating and development of people.&nbsp\; In 2005 she started her own Consulting firm\, Darke and Associates - www.darkeassociates.com where she works with clients as large as Fortune 100 companies to small privately held organizations.&nbsp\; Her education was at the College of St. Benedict and the University of Minnesota.&nbsp\; Patty is a licensed provider of Profiles International Selection\, Retention\, Coaching and Succession Planning tools.</div>\n
LOCATION:AAA 600 West Travelers Trail Burnsville\, MN 55337
UID:e.411.666808
SEQUENCE:3
DTSTAMP:20260425T125221Z
URL:https://members.burnsvillechamber.com/events/details/june-2014-smypros-meeting-personality-disc-assessments-part-2-06-25-2014-666808
END:VEVENT

END:VCALENDAR
