BEGIN:VCALENDAR
VERSION:2.0
PRODID:-//ChamberMaster//Event Calendar 2.0//EN
METHOD:PUBLISH
X-PUBLISHED-TTL:P3D
REFRESH-INTERVAL:P3D
CALSCALE:GREGORIAN
BEGIN:VEVENT
DTSTART:20150108T223000Z
DTEND:20150109T003000Z
X-MICROSOFT-CDO-ALLDAYEVENT:FALSE
SUMMARY:January Business After Hours @ the Ames Center
DESCRIPTION:January's Business After Hours networking event is being hosted at and by the beautiful Ames Center (formerly the Burnsville Performing Arts Center).  Join us for some post-holidays networking\, fun and conversation!\n\n\n\nFood is being provided by Roasted Pear!\n\n\n\nMembers only.
X-ALT-DESC;FMTTYPE=text/html:January&#39\;s Business After Hours networking event is being hosted at and by the beautiful Ames Center (formerly the Burnsville Performing Arts Center).&nbsp\; Join us for some post-holidays networking\, fun and conversation!<br />\n<br />\nFood is being provided by Roasted Pear!<br />\n<br />\nMembers only.
LOCATION:Ames Center 12600 Nicollet Ave Burnsville
UID:e.411.666900
SEQUENCE:3
DTSTAMP:20260425T004459Z
URL:https://members.burnsvillechamber.com/events/details/january-business-after-hours-the-ames-center-01-08-2015-666900
END:VEVENT

END:VCALENDAR
