BEGIN:VCALENDAR
VERSION:2.0
PRODID:-//ChamberMaster//Event Calendar 2.0//EN
METHOD:PUBLISH
X-PUBLISHED-TTL:P3D
REFRESH-INTERVAL:P3D
CALSCALE:GREGORIAN
BEGIN:VEVENT
DTSTART:20150114T140000Z
DTEND:20150114T150000Z
X-MICROSOFT-CDO-ALLDAYEVENT:FALSE
SUMMARY:January AM Coffee Break @ Burnsville High School
DESCRIPTION:The Burnsville High School and the Burnsville High School Robotics Team want to host all Burnsville Chamber Members for the January AM Coffee Break.  Come enjoy some coffee and networking\, all while learning more about the Burnsville Robotics team!
X-ALT-DESC;FMTTYPE=text/html:The Burnsville High School and the Burnsville High School Robotics Team want to host all Burnsville Chamber Members for the January AM Coffee Break.&nbsp\; Come enjoy some coffee and networking\, all while learning more about the Burnsville Robotics team!
LOCATION:Burnsville High School 600 Highway 13 Burnsville
UID:e.411.666902
SEQUENCE:3
DTSTAMP:20260425T004329Z
URL:https://members.burnsvillechamber.com/events/details/january-am-coffee-break-burnsville-high-school-01-14-2015-666902
END:VEVENT

END:VCALENDAR
