BEGIN:VCALENDAR
VERSION:2.0
PRODID:-//ChamberMaster//Event Calendar 2.0//EN
METHOD:PUBLISH
X-PUBLISHED-TTL:P3D
REFRESH-INTERVAL:P3D
CALSCALE:GREGORIAN
BEGIN:VEVENT
DTSTART:20140121T003000Z
DTEND:20140121T023000Z
X-MICROSOFT-CDO-ALLDAYEVENT:FALSE
SUMMARY:Honoring the Prophetic Legacy of the Reverend Dr. Martin Luther King\, Jr.
DESCRIPTION:Featuring Guest Speaker Reverend Dr. Jin S. Kim\, Church of All Nations and various musical\, dance\, and spoken word selections from: Alanna Morris-Van Tassel\, Brian Van Tassel\, Calvary Choir with Tryenyse Jones\, Roosevelt High School Jazz Combo\, Lightnin Joe Peterson\, Shanna Gronewold\, Stacey Jones and Calvary Youth.
X-ALT-DESC;FMTTYPE=text/html:Featuring Guest Speaker Reverend Dr. Jin S. Kim\, Church of All Nations and various musical\, dance\, and spoken word selections from: Alanna Morris-Van Tassel\, Brian Van Tassel\, Calvary Choir with Tryenyse Jones\, Roosevelt High School Jazz Combo\, Lightnin Joe Peterson\, Shanna Gronewold\, Stacey Jones and Calvary Youth.
LOCATION:CALVARY BAPTIST CHURCH: 2608 Blaisdell Avenue South\, Minneapolis\, MN 55408
UID:e.411.666740
SEQUENCE:3
DTSTAMP:20260425T213701Z
URL:https://members.burnsvillechamber.com/events/details/honoring-the-prophetic-legacy-of-the-reverend-dr-martin-luther-king-jr-01-20-2014-666740
END:VEVENT

END:VCALENDAR
