BEGIN:VCALENDAR
VERSION:2.0
PRODID:-//ChamberMaster//Event Calendar 2.0//EN
METHOD:PUBLISH
X-PUBLISHED-TTL:P3D
REFRESH-INTERVAL:P3D
CALSCALE:GREGORIAN
BEGIN:VEVENT
DTSTART;VALUE=DATE:20131208
DTEND;VALUE=DATE:20131209
TRANSP:TRANSPARENT
X-MICROSOFT-CDO-ALLDAYEVENT:TRUE
SUMMARY:Handel's Messiah - Dakota Valley Symphony & Chorus
DESCRIPTION:Join the Dakota Valley Symphony and Chorus on Sunday\, December 2nd for the holiday tradition of Handel's Messiah.
X-ALT-DESC;FMTTYPE=text/html:Join the Dakota Valley Symphony and Chorus on Sunday\, December 2nd for the holiday tradition of Handel&#39\;s Messiah.
LOCATION:Burnsville Performing Arts Center
UID:e.411.666558
SEQUENCE:3
DTSTAMP:20260426T005704Z
URL:https://members.burnsvillechamber.com/events/details/handel-s-messiah-dakota-valley-symphony-chorus-12-08-2013-666558
END:VEVENT

END:VCALENDAR
