BEGIN:VCALENDAR
VERSION:2.0
PRODID:-//ChamberMaster//Event Calendar 2.0//EN
METHOD:PUBLISH
X-PUBLISHED-TTL:P3D
REFRESH-INTERVAL:P3D
CALSCALE:GREGORIAN
BEGIN:VEVENT
DTSTART:20150923T213000Z
DTEND:20150923T213000Z
X-MICROSOFT-CDO-ALLDAYEVENT:FALSE
SUMMARY:Grand Opening/Ribbon Cutting @ Keller Williams Prefered Realty
DESCRIPTION:Grand Opening and Ribbon Cutting
X-ALT-DESC;FMTTYPE=text/html:Grand Opening and Ribbon Cutting
LOCATION:14300 Nicollet Ct\, Ste. 208 Burnsville\, MN 55306\, US View A Map
UID:e.411.666975
SEQUENCE:3
DTSTAMP:20260424T101454Z
URL:https://members.burnsvillechamber.com/events/details/grand-opening-ribbon-cutting-keller-williams-prefered-realty-09-23-2015-666975
END:VEVENT

END:VCALENDAR
