BEGIN:VCALENDAR
VERSION:2.0
PRODID:-//ChamberMaster//Event Calendar 2.0//EN
METHOD:PUBLISH
X-PUBLISHED-TTL:P3D
REFRESH-INTERVAL:P3D
CALSCALE:GREGORIAN
BEGIN:VEVENT
DTSTART:20190621T230000Z
DTEND:20190622T020000Z
X-MICROSOFT-CDO-ALLDAYEVENT:FALSE
SUMMARY:Girls Night In
DESCRIPTION:Ladies enjoy a relaxing evening with your friends at the Paloma Health and Wellness Studio in Savage. Book one or both of these services to enjoy during this fun night in. - 30 minute ionic foot baths ($33 includes food and drink) - max of 10 spots available. - 5 make and take essential oil rollers ($33 includes food and drink) - Both services: ionic foot bath and essential oils ($58) Advance booking requested so we can ensure the best experience. Book at https://www.palomahw.com/book-online
X-ALT-DESC;FMTTYPE=text/html:Ladies enjoy a relaxing evening with your friends at the Paloma Health and Wellness Studio in Savage. Book one or both of these services to enjoy during this fun night in. - 30 minute ionic foot baths ($33 includes food and drink) - max of 10 spots available. - 5 make and take essential oil rollers ($33 includes food and drink) - Both services: ionic foot bath and essential oils ($58) Advance booking requested so we can ensure the best experience. Book at https://www.palomahw.com/book-online
LOCATION:4401 Egan Drive\, Savage\, MN 55378 in the Finish Line Wellness Center
UID:e.411.668607
SEQUENCE:3
DTSTAMP:20260421T032033Z
URL:https://members.burnsvillechamber.com/events/details/girls-night-in-668607
END:VEVENT

END:VCALENDAR
