BEGIN:VCALENDAR
VERSION:2.0
PRODID:-//ChamberMaster//Event Calendar 2.0//EN
METHOD:PUBLISH
X-PUBLISHED-TTL:P3D
REFRESH-INTERVAL:P3D
CALSCALE:GREGORIAN
BEGIN:VEVENT
DTSTART:20131007T160000Z
DTEND:20131007T170000Z
X-MICROSOFT-CDO-ALLDAYEVENT:FALSE
SUMMARY:Facebook 101 Workshop
DESCRIPTION:FACEBOOK 101 - HOW TO BUILD YOUR NETWORK AND INCREASE YOUR REACH\n\n	You'll learn about:\n\n	\n		Features on Personal Profiles and Business Pages.\n	\n		How to increase your reach beyond your own friends and followers.\n	\n		How to "Like"\, "Share"\, "Tag" and "Post" effectively to bring an awareness to your business and brand.\n	\n		How to make changes to your business page so it will start showing up in Google\, Yahoo!\, and Bing searches.\n\n\n	This is a workshop like no other.  It's not as complicated as some "experts" make it.  You'll leave with a basic understanding of everything you need to know to start using Facebook more efficiently and effectively... and it's MUCH easier than you think!\n\n	 \n\n	Don't let this hour pass you by!  Bring your laptops!  Wi-Fi available!
X-ALT-DESC;FMTTYPE=text/html:<p style="margin: 10px 0px 0px\; padding: 0px\; border: 0px currentColor\; text-align: justify\; color: rgb(44\, 43\, 43)\; line-height: 18px\; font-family: arial\; font-size: 13px\;">\n	<span style="font-size: small\;"><strong>FACEBOOK 101 - HOW TO BUILD YOUR NETWORK AND INCREASE YOUR REACH</strong></span></p>\n<p style="margin: 10px 0px 0px\; padding: 0px\; border: 0px currentColor\; text-align: justify\; color: rgb(44\, 43\, 43)\; line-height: 18px\; font-family: arial\; font-size: 13px\;">\n	<span style="color: rgb(51\, 51\, 51)\; line-height: 16px\; font-family: &quot\;lucida grande&quot\;\, tahoma\, verdana\, arial\, sans-serif\;">You&#39\;ll learn about:</span></p>\n<ol style="margin: 5px 0px 5px 30px\; border: 0px currentColor\; text-align: justify\; color: rgb(44\, 43\, 43)\; line-height: 18px\; padding-right: 0px\; padding-left: 0px\; font-family: arial\; font-size: 13px\;">\n	<li style="margin: 0px 0px 7px\; padding: 0px\; border: 0px currentColor\;">\n		<span style="color: rgb(51\, 51\, 51)\; line-height: 16px\; font-family: &quot\;lucida grande&quot\;\, tahoma\, verdana\, arial\, sans-serif\;">Features on Personal Profiles and Business Pages.</span></li>\n	<li style="margin: 0px 0px 7px\; padding: 0px\; border: 0px currentColor\;">\n		<span style="color: rgb(51\, 51\, 51)\; line-height: 16px\; font-family: &quot\;lucida grande&quot\;\, tahoma\, verdana\, arial\, sans-serif\;">How to increase your reach beyond your own friends and followers.</span></li>\n	<li style="margin: 0px 0px 7px\; padding: 0px\; border: 0px currentColor\;">\n		<span style="color: rgb(51\, 51\, 51)\; line-height: 16px\; font-family: &quot\;lucida grande&quot\;\, tahoma\, verdana\, arial\, sans-serif\;">How to &quot\;Like&quot\;\, &quot\;Share&quot\;\, &quot\;Tag&quot\; and &quot\;Post&quot\; effectively to bring an awareness to your business and brand.</span></li>\n	<li style="margin: 0px 0px 7px\; padding: 0px\; border: 0px currentColor\;">\n		<span style="color: rgb(51\, 51\, 51)\; line-height: 16px\; font-family: &quot\;lucida grande&quot\;\, tahoma\, verdana\, arial\, sans-serif\;">How to make changes to your business page so it will start showing up in Google\, Yahoo!\, and Bing searches.</span></li>\n</ol>\n<div style="text-align: justify\; color: rgb(0\, 0\, 0)\; line-height: 15.82px\; font-family: &quot\;Helvetica Neue&quot\;\, Helvetica\, Arial\, sans-serif\; font-size: 13px\;">\n	<span style="color: rgb(51\, 51\, 51)\; font-family: &quot\;lucida grande&quot\;\, tahoma\, verdana\, arial\, sans-serif\; font-size: small\;"><span style="line-height: 16px\;">This is a workshop like no other. &nbsp\;It&#39\;s not as complicated as some &quot\;experts&quot\; make it. &nbsp\;You&#39\;ll leave with a basic understanding of everything you need to know to start using Facebook more efficiently and effectively... and it&#39\;s MUCH easier than you think!</span></span></div>\n<div style="text-align: justify\; color: rgb(0\, 0\, 0)\; line-height: 15.82px\; font-family: &quot\;Helvetica Neue&quot\;\, Helvetica\, Arial\, sans-serif\; font-size: 13px\;">\n	&nbsp\;</div>\n<div style="text-align: justify\; color: rgb(0\, 0\, 0)\; line-height: 15.82px\; font-family: &quot\;Helvetica Neue&quot\;\, Helvetica\, Arial\, sans-serif\; font-size: 13px\;">\n	<span style="color: rgb(51\, 51\, 51)\; font-family: &quot\;lucida grande&quot\;\, tahoma\, verdana\, arial\, sans-serif\; font-size: small\;"><span style="line-height: 16px\;">Don&#39\;t let this hour pass you by! &nbsp\;Bring your laptops!&nbsp\;&nbsp\;Wi-Fi available!</span></span></div>\n
LOCATION:Hope Community Church 9623 162nd Street West Lakeville\, MN 55044
UID:e.411.666710
SEQUENCE:3
DTSTAMP:20260426T022415Z
URL:https://members.burnsvillechamber.com/events/details/facebook-101-workshop-10-07-2013-666710
END:VEVENT

END:VCALENDAR
