BEGIN:VCALENDAR
VERSION:2.0
PRODID:-//ChamberMaster//Event Calendar 2.0//EN
METHOD:PUBLISH
X-PUBLISHED-TTL:P3D
REFRESH-INTERVAL:P3D
CALSCALE:GREGORIAN
BEGIN:VEVENT
DTSTART:20140717T150000Z
DTEND:20140717T200000Z
X-MICROSOFT-CDO-ALLDAYEVENT:FALSE
SUMMARY:Customer Appreciation Day at Home Federal Savings Bank
DESCRIPTION:Please join us for food and refreshments from 10 a.m. - 3 p.m. at the Eagan Home Federal Savings office on Thursday\, July 17th! We'll reveal our lucky contest winner at noon and they'll receive a chance to win up to $800 in the Cash Tornado! Hope to see you there!
X-ALT-DESC;FMTTYPE=text/html:Please join us for food and refreshments from 10 a.m. - 3 p.m. at the Eagan Home Federal Savings office on Thursday\, July 17th! We&#39\;ll reveal our lucky contest winner at noon and they&#39\;ll receive a chance to win up to $800 in the Cash Tornado! Hope to see you there!<br />\n<br />\n&nbsp\;
LOCATION:Home Federal Savings Bank 2805 Dodd Road\, Suite 160 Eagan\, MN 55121
UID:e.411.666817
SEQUENCE:3
DTSTAMP:20260425T110426Z
URL:https://members.burnsvillechamber.com/events/details/customer-appreciation-day-at-home-federal-savings-bank-07-17-2014-666817
END:VEVENT

END:VCALENDAR
