BEGIN:VCALENDAR
VERSION:2.0
PRODID:-//ChamberMaster//Event Calendar 2.0//EN
METHOD:PUBLISH
X-PUBLISHED-TTL:P3D
REFRESH-INTERVAL:P3D
CALSCALE:GREGORIAN
BEGIN:VEVENT
DTSTART:20140425T130000Z
DTEND:20140425T130000Z
X-MICROSOFT-CDO-ALLDAYEVENT:FALSE
SUMMARY:Critical Conversations: Climate Change ~ Is Minnesota Really Becoming Kansas?
DESCRIPTION:From heat waves to super storms\, climate change affects everyone. Join us and well-known climatologist and meteorologist\, Mark Seeley to discuss how climate change affects public sector programs and operations.
X-ALT-DESC;FMTTYPE=text/html:From heat waves to super storms\, climate change affects everyone. Join us and well-known climatologist and meteorologist\, Mark Seeley to discuss how climate change affects public sector programs and operations.
LOCATION:Maple Grove Government Center\, Emergency Operations Center 12800 Arbor Lakes Pkwy N Maple Grove\, MN 55369
UID:e.411.666783
SEQUENCE:3
DTSTAMP:20260425T163235Z
URL:https://members.burnsvillechamber.com/events/details/critical-conversations-climate-change-is-minnesota-really-becoming-kansas-04-25-2014-666783
END:VEVENT

END:VCALENDAR
