BEGIN:VCALENDAR
VERSION:2.0
PRODID:-//ChamberMaster//Event Calendar 2.0//EN
METHOD:PUBLISH
X-PUBLISHED-TTL:P3D
REFRESH-INTERVAL:P3D
CALSCALE:GREGORIAN
BEGIN:VEVENT
DTSTART:20131011T210000Z
DTEND:20131012T030000Z
X-MICROSOFT-CDO-ALLDAYEVENT:FALSE
SUMMARY:Country Cabinets Open House & Business After Hours
DESCRIPTION:Come and celebrate 25 Years of Business with Country Cabinets at this month's Business After Hours.  Enjoy beverages and a pig roast with friends and chamber members.
X-ALT-DESC;FMTTYPE=text/html:Come and celebrate 25 Years of Business with Country Cabinets at this month&#39\;s Business After Hours.&nbsp\; Enjoy beverages and a pig roast with friends and chamber members.
LOCATION:Country Cabinets 28010 Foliage Ave Northfield\, MN 55057
UID:e.411.666688
SEQUENCE:3
DTSTAMP:20260426T022726Z
URL:https://members.burnsvillechamber.com/events/details/country-cabinets-open-house-business-after-hours-10-11-2013-666688
END:VEVENT

END:VCALENDAR
