BEGIN:VCALENDAR
VERSION:2.0
PRODID:-//ChamberMaster//Event Calendar 2.0//EN
METHOD:PUBLISH
X-PUBLISHED-TTL:P3D
REFRESH-INTERVAL:P3D
CALSCALE:GREGORIAN
BEGIN:VEVENT
DTSTART:20140505T160000Z
DTEND:20140505T180000Z
X-MICROSOFT-CDO-ALLDAYEVENT:FALSE
SUMMARY:Cinco De Mayo Fundraiser Benefitting Burnsville Fire Department
DESCRIPTION:Members of the public are invited to attend. Lunch will include tacos\, chips\, salsa\, churros and non-alcoholic margaritas. Members of the Burnsville Fire Department\, as well as a Mariachi band will be on hand. Raffle tickets will also be available. All proceeds from the event will go toward purchasing a senior-friendly lift for emergency vehicles.
X-ALT-DESC;FMTTYPE=text/html:Members of the public are invited to attend. Lunch will include tacos\, chips\, salsa\, churros and non-alcoholic margaritas. Members of the Burnsville Fire Department\, as well as a Mariachi band will be on hand. Raffle tickets will also be available. All proceeds from the event will go toward purchasing a senior-friendly lift for emergency vehicles.
LOCATION:Arbors at Ridges\, 13897 Community Drive
UID:e.411.666790
SEQUENCE:3
DTSTAMP:20260425T152720Z
URL:https://members.burnsvillechamber.com/events/details/cinco-de-mayo-fundraiser-benefitting-burnsville-fire-department-05-05-2014-666790
END:VEVENT

END:VCALENDAR
