BEGIN:VCALENDAR
VERSION:2.0
PRODID:-//ChamberMaster//Event Calendar 2.0//EN
METHOD:PUBLISH
X-PUBLISHED-TTL:P3D
REFRESH-INTERVAL:P3D
CALSCALE:GREGORIAN
BEGIN:VEVENT
DTSTART:20140513T203000Z
DTEND:20140513T223000Z
X-MICROSOFT-CDO-ALLDAYEVENT:FALSE
SUMMARY:Business Women's Happy Hour
DESCRIPTION:The Minnesota Chamber and Innovative Office Solutions are hosting Business Woman's Networking and Happy Hour. Come join us for light appetizers\, drinks and fun! Please RSVP kgunderson@innovativeos.com
X-ALT-DESC;FMTTYPE=text/html:The Minnesota Chamber and Innovative Office Solutions are hosting Business Woman&#39\;s Networking and Happy Hour. Come join us for light appetizers\, drinks and fun! Please RSVP kgunderson@innovativeos.com
LOCATION:Innovative Office Solutions 151 E Cliff Road Burnsville MN 55337 (Nicolette and Hwy13)
UID:e.411.666795
SEQUENCE:3
DTSTAMP:20260425T150638Z
URL:https://members.burnsvillechamber.com/events/details/business-women-s-happy-hour-05-13-2014-666795
END:VEVENT

END:VCALENDAR
