BEGIN:VCALENDAR
VERSION:2.0
PRODID:-//ChamberMaster//Event Calendar 2.0//EN
METHOD:PUBLISH
X-PUBLISHED-TTL:P3D
REFRESH-INTERVAL:P3D
CALSCALE:GREGORIAN
BEGIN:VEVENT
DTSTART:20130905T230000Z
DTEND:20130906T010000Z
X-MICROSOFT-CDO-ALLDAYEVENT:FALSE
SUMMARY:Business After Hours - Burnsville Fire Muster
DESCRIPTION:Our  Business After Hours event this month will be joined with the Burnsville Fire Muster at the Red Lion Liquor's annual craft beer tasting kick-off event. Featuring craft beer from these breweries: Surly\, Fulton\, Deschutes\, Schell's\, Lucid\, Third Street\, Indeed\, Big Wood and Mikes.\n\n\n\nAdmission is $5.00 or a non-perishable food item to benefit 360 Communities.
X-ALT-DESC;FMTTYPE=text/html:Our&nbsp\; Business After Hours event this month will be joined with the Burnsville Fire Muster at the Red Lion Liquor&#39\;s annual craft beer tasting kick-off event. Featuring craft beer from these breweries: Surly\, Fulton\, Deschutes\, Schell&#39\;s\, Lucid\, Third Street\, Indeed\, Big Wood and Mikes.<br />\n<br />\nAdmission is $5.00 or a non-perishable food item to benefit 360 Communities.
LOCATION:Burnsville Performing Arts Outdoor Space Burnsville\, MN
UID:e.411.666640
SEQUENCE:3
DTSTAMP:20260426T041350Z
URL:https://members.burnsvillechamber.com/events/details/business-after-hours-burnsville-fire-muster-09-05-2013-666640
END:VEVENT

END:VCALENDAR
