BEGIN:VCALENDAR
VERSION:2.0
PRODID:-//ChamberMaster//Event Calendar 2.0//EN
METHOD:PUBLISH
X-PUBLISHED-TTL:P3D
REFRESH-INTERVAL:P3D
CALSCALE:GREGORIAN
BEGIN:VEVENT
DTSTART:20140710T213000Z
DTEND:20140710T230000Z
X-MICROSOFT-CDO-ALLDAYEVENT:FALSE
SUMMARY:Business After Hours @ Buca di Beppo
DESCRIPTION:Come out and enjoy the fun atmosphere at Buca di Beppo Italian Restaurante for July's Business After Hours networking event! There's sure to be great food\, drinks & conversation!
X-ALT-DESC;FMTTYPE=text/html:Come out and enjoy the fun atmosphere at Buca di Beppo Italian Restaurante for July&#39\;s Business After Hours networking event! There&#39\;s sure to be great food\, drinks &amp\; conversation!
LOCATION:Buca di Beppo 14300 Burnhaven Drive Burnsville\, MN
UID:e.411.666806
SEQUENCE:3
DTSTAMP:20260425T110256Z
URL:https://members.burnsvillechamber.com/events/details/business-after-hours-buca-di-beppo-07-10-2014-666806
END:VEVENT

END:VCALENDAR
