BEGIN:VCALENDAR
VERSION:2.0
PRODID:-//ChamberMaster//Event Calendar 2.0//EN
METHOD:PUBLISH
X-PUBLISHED-TTL:P3D
REFRESH-INTERVAL:P3D
CALSCALE:GREGORIAN
BEGIN:VEVENT
DTSTART:20140403T213000Z
DTEND:20140403T233000Z
X-MICROSOFT-CDO-ALLDAYEVENT:FALSE
SUMMARY:Business After Hours - Brunswick Zone
DESCRIPTION:Join us at Brunswick Zone in Lakeville for this month's Business After Hours event. Enjoy delicious appetizers while networking with other chamber members. This event is free to attend.
X-ALT-DESC;FMTTYPE=text/html:Join us at Brunswick Zone in Lakeville for this month&#39\;s Business After Hours event. Enjoy delicious appetizers while networking with other chamber members. This event is free to attend.
LOCATION:Brunswick Zone 11129 162nd St West Lakeville\, MN
UID:e.411.666735
SEQUENCE:3
DTSTAMP:20260425T163200Z
URL:https://members.burnsvillechamber.com/events/details/business-after-hours-brunswick-zone-04-03-2014-666735
END:VEVENT

END:VCALENDAR
