BEGIN:VCALENDAR
VERSION:2.0
PRODID:-//ChamberMaster//Event Calendar 2.0//EN
METHOD:PUBLISH
X-PUBLISHED-TTL:P3D
REFRESH-INTERVAL:P3D
CALSCALE:GREGORIAN
BEGIN:VEVENT
DTSTART:20141211T010000Z
DTEND:20141211T030000Z
X-MICROSOFT-CDO-ALLDAYEVENT:FALSE
SUMMARY:Burger Jones' First Annual Ugly Sweater Beer Geek Party
DESCRIPTION:Join us for our first annual ugly sweater beer geek party! There will be kegs of Widmer Brothers Brrr and Redhook Winter Ale FREE for all beer geeks to enjoy. We will also be offering our happy hour appetizers and the late night bj during the party. Not a beer geek\, don't worry you can sign up when you arrive. There will be prizes for the ugliest sweater and plenty of reindeer games to play! We cannot wait to see you Wednesday!
X-ALT-DESC;FMTTYPE=text/html:Join us for our first annual ugly sweater beer geek party! There will be kegs of Widmer Brothers Brrr and Redhook Winter Ale FREE for all beer geeks to enjoy. We will also be offering our happy hour appetizers and the late night bj during the party. Not a beer geek\, don&#39\;t worry you can sign up when you arrive. There will be prizes for the ugliest sweater and plenty of reindeer games to play! We cannot wait to see you Wednesday!
LOCATION:Burger Jones\, Burnsville
UID:e.411.666895
SEQUENCE:3
DTSTAMP:20260425T023454Z
URL:https://members.burnsvillechamber.com/events/details/burger-jones-first-annual-ugly-sweater-beer-geek-party-12-10-2014-666895
END:VEVENT

END:VCALENDAR
