BEGIN:VCALENDAR
VERSION:2.0
PRODID:-//ChamberMaster//Event Calendar 2.0//EN
METHOD:PUBLISH
X-PUBLISHED-TTL:P3D
REFRESH-INTERVAL:P3D
CALSCALE:GREGORIAN
BEGIN:VEVENT
DTSTART:20140126T170000Z
DTEND:20140126T210000Z
X-MICROSOFT-CDO-ALLDAYEVENT:FALSE
SUMMARY:Best Western Premier Nicollet Inn 4th Annual Wedding Expo
DESCRIPTION:Join Us For Our 4th Annual Wedding Expo on Sunday January 26th from 11-3pm. This event is FREE to attend if you RSVP on Facebook. Brides\, Grooms and their entourages will enjoy multiple Vendors\, Complimentary Champagne\, Live Music\, and Door Prizes
X-ALT-DESC;FMTTYPE=text/html:Join Us For Our 4th Annual Wedding Expo on Sunday January 26th from 11-3pm. This event is FREE to attend if you RSVP on Facebook. Brides\, Grooms and their entourages will enjoy multiple Vendors\, Complimentary Champagne\, Live Music\, and Door Prizes
LOCATION:14201 Nicollet Avenue South Burnsville\, MN 55337
UID:e.411.666739
SEQUENCE:3
DTSTAMP:20260425T215118Z
URL:https://members.burnsvillechamber.com/events/details/best-western-premier-nicollet-inn-4th-annual-wedding-expo-01-26-2014-666739
END:VEVENT

END:VCALENDAR
