BEGIN:VCALENDAR
VERSION:2.0
PRODID:-//ChamberMaster//Event Calendar 2.0//EN
METHOD:PUBLISH
X-PUBLISHED-TTL:P3D
REFRESH-INTERVAL:P3D
CALSCALE:GREGORIAN
BEGIN:VEVENT
DTSTART:20131113T173000Z
DTEND:20131113T190000Z
X-MICROSOFT-CDO-ALLDAYEVENT:FALSE
SUMMARY:BBB Focus Luncheon: Lean Security 101
DESCRIPTION:"Lean Security 101"\n\nBy Josh More\, RJS Smart Security\n\n\n\nFor years\, we've been told the key to online security is technology. We purchase and deploy technology to create layers behind layers\, making our walls taller and taller to keep the bad guys out. Sadly\, it doesn't always work. What does work is combining lessons learned in other industries to the security world. By examining best practices within Lean Manufacturing\, Agile Development and Rugged DevOps\, this presentation delivers ways you can be successful in security (not just by purchasing technology).
X-ALT-DESC;FMTTYPE=text/html:<strong>&ldquo\;Lean Security 101&rdquo\;</strong><br />\n<em>By Josh More\, RJS Smart Security</em><br />\n<br />\nFor years\, we&#39\;ve been told the key to online security is technology. We purchase and deploy technology to create layers behind layers\, making our walls taller and taller to keep the bad guys out. Sadly\, it doesn&rsquo\;t always work. What does work is combining lessons learned in other industries to the security world. By examining best practices within Lean Manufacturing\, Agile Development and Rugged DevOps\, this presentation delivers ways you can be successful in security (not just by purchasing technology).<br />\n&nbsp\;
LOCATION:Better Business Bureau 220 S. River Ridge Circle Burnsville\, MN 55337
UID:e.411.666704
SEQUENCE:3
DTSTAMP:20260426T024849Z
URL:https://members.burnsvillechamber.com/events/details/bbb-focus-luncheon-lean-security-101-11-13-2013-666704
END:VEVENT

END:VCALENDAR
