BEGIN:VCALENDAR
VERSION:2.0
PRODID:-//ChamberMaster//Event Calendar 2.0//EN
METHOD:PUBLISH
X-PUBLISHED-TTL:P3D
REFRESH-INTERVAL:P3D
CALSCALE:GREGORIAN
BEGIN:VEVENT
DTSTART:20140514T163000Z
DTEND:20140514T180000Z
X-MICROSOFT-CDO-ALLDAYEVENT:FALSE
SUMMARY:BBB Focus Luncheon: How to Protect Your Business from Common Scams
DESCRIPTION:If you're a small business owner\, you need to be aware that you're a target for scammers. While you may think that scammers will be easy to spot\, many businesses still fall prey to common scams. In this presentation\, you'll learn of common scams that target businesses and what you can do to protect yourself.
X-ALT-DESC;FMTTYPE=text/html:If you&#39\;re a small business owner\, you need to be aware that you&#39\;re a target for scammers. While you may think that scammers will be easy to spot\, many businesses still fall prey to common scams. In this presentation\, you&#39\;ll learn of common scams that target businesses and what you can do to protect yourself.
LOCATION:Think Mutual Bank
UID:e.411.666773
SEQUENCE:3
DTSTAMP:20260425T163437Z
URL:https://members.burnsvillechamber.com/events/details/bbb-focus-luncheon-how-to-protect-your-business-from-common-scams-05-14-2014-666773
END:VEVENT

END:VCALENDAR
