BEGIN:VCALENDAR
VERSION:2.0
PRODID:-//ChamberMaster//Event Calendar 2.0//EN
METHOD:PUBLISH
X-PUBLISHED-TTL:P3D
REFRESH-INTERVAL:P3D
CALSCALE:GREGORIAN
BEGIN:VEVENT
DTSTART:20131009T163000Z
DTEND:20131009T180000Z
X-MICROSOFT-CDO-ALLDAYEVENT:FALSE
SUMMARY:BBB Focus Luncheon: Hiring Your Greatest Assets
DESCRIPTION:"Hiring Your Greatest Assets"   \n\nBy Kelly Brenna\, Kraus-Anderson Insurance\n\n\n\nThis interactive presentation will assist companies in their hiring\, recruiting and retention practices. If employees are our greatest asset\, then conversely\, they can also be our greatest liability. Where do you recruit from? Are your interviewing skills up-to-date? Is your team trained on the "do's and don'ts" of interviewing? Do you have an established process in place? If any of the questions listed here provide you with an uneasy answer\, this program is for you. Not only will you learn something\, you will have fun doing it!
X-ALT-DESC;FMTTYPE=text/html:<strong>&ldquo\;Hiring Your Greatest Assets&rdquo\;&nbsp\;&nbsp\; </strong><br />\n<em>By Kelly Brenna\, Kraus-Anderson Insurance</em><br />\n<br />\nThis interactive presentation will assist companies in their hiring\, recruiting and retention practices. If employees are our greatest asset\, then conversely\, they can also be our greatest liability. Where do you recruit from? Are your interviewing skills up-to-date? Is your team trained on the &ldquo\;do&rsquo\;s and don&rsquo\;ts&rdquo\; of interviewing? Do you have an established process in place? If any of the questions listed here provide you with an uneasy answer\, this program is for you. Not only will you learn something\, you will have fun doing it!
LOCATION:Better Business Bureau 220 S. River Ridge Circle Burnsville\, MN 55337
UID:e.411.666702
SEQUENCE:3
DTSTAMP:20260426T022539Z
URL:https://members.burnsvillechamber.com/events/details/bbb-focus-luncheon-hiring-your-greatest-assets-10-09-2013-666702
END:VEVENT

END:VCALENDAR
