BEGIN:VCALENDAR
VERSION:2.0
PRODID:-//ChamberMaster//Event Calendar 2.0//EN
METHOD:PUBLISH
X-PUBLISHED-TTL:P3D
REFRESH-INTERVAL:P3D
CALSCALE:GREGORIAN
BEGIN:VEVENT
DTSTART:20140122T173000Z
DTEND:20140122T190000Z
X-MICROSOFT-CDO-ALLDAYEVENT:FALSE
SUMMARY:BBB Focus Luncheon: Enhance Your Online Presence: Search Engine Optimization
DESCRIPTION:"Enhance Your Online Presence: Search Engine Optimization"     \n\nBy Ben Theis\, Skol Marketing\n\n\n\nYour business is online but how do you take advantage by driving traffic and revenue? Discover how to get found and attract customers online. Learn the anatomy of a search engine and how Google\, Yahoo\, and Bing are actually analyzing your website and online presence\, plus tips and tools you can use to enhance your online presence.
X-ALT-DESC;FMTTYPE=text/html:<strong>&ldquo\;Enhance Your Online Presence: Search Engine Optimization&rdquo\;&nbsp\;&nbsp\;&nbsp\;&nbsp\; </strong><br />\n<em>By Ben Theis\, Skol Marketing</em><br />\n<br />\n<span style="font-family: calibri\,sans-serif\;"><span style="font-size: 11pt\;">Your business is online but how do you take advantage by driving traffic and revenue? Discover how to get found and attract customers online. Learn the anatomy of a search engine and how Google\, Yahoo\, and Bing are actually analyzing your website and online presence\, plus tips and tools you can use to enhance your online presence.</span></span><br />\n
LOCATION:Better Business Bureau 220 S. River Ridge Circle Burnsville\, MN 55337
UID:e.411.666708
SEQUENCE:3
DTSTAMP:20260425T213215Z
URL:https://members.burnsvillechamber.com/events/details/bbb-focus-luncheon-enhance-your-online-presence-search-engine-optimization-01-22-2014-666708
END:VEVENT

END:VCALENDAR
