BEGIN:VCALENDAR
VERSION:2.0
PRODID:-//ChamberMaster//Event Calendar 2.0//EN
METHOD:PUBLISH
X-PUBLISHED-TTL:P3D
REFRESH-INTERVAL:P3D
CALSCALE:GREGORIAN
BEGIN:VEVENT
DTSTART:20140115T140000Z
DTEND:20140115T150000Z
X-MICROSOFT-CDO-ALLDAYEVENT:FALSE
SUMMARY:AM Coffee Break - Contour Clinic
DESCRIPTION:Contour Clinic welcomes you to join them for the January AM Coffee Break on Wednesday\, January 15th. Enjoy delicious breakfast goodies and coffee while networking with other chamber members.
X-ALT-DESC;FMTTYPE=text/html:Contour Clinic welcomes you to join them for the January AM Coffee Break on Wednesday\, January 15th. Enjoy delicious breakfast goodies and coffee while networking with other chamber members.
LOCATION:Contour Clinic 150 E. Travlers Trail (near Nicollet and Hwy 13 by the Cub Foods area) Burnsville
UID:e.411.666730
SEQUENCE:3
DTSTAMP:20260425T215800Z
URL:https://members.burnsvillechamber.com/events/details/am-coffee-break-contour-clinic-01-15-2014-666730
END:VEVENT

END:VCALENDAR
