BEGIN:VCALENDAR
VERSION:2.0
PRODID:-//ChamberMaster//Event Calendar 2.0//EN
METHOD:PUBLISH
X-PUBLISHED-TTL:P3D
REFRESH-INTERVAL:P3D
CALSCALE:GREGORIAN
BEGIN:VEVENT
DTSTART:20140212T140000Z
DTEND:20140212T150000Z
X-MICROSOFT-CDO-ALLDAYEVENT:FALSE
SUMMARY:AM Coffee Break at 360 Communities
DESCRIPTION:Please join us at 360 Communities for the February AM Coffee Break. Learn all about this non-profit and ways they help the community each and every day. Enjoy tasty breakfast treats and coffee while networking with other chamber members.
X-ALT-DESC;FMTTYPE=text/html:Please join us at 360 Communities for the February AM Coffee Break. Learn all about this non-profit and ways they help the community each and every day. Enjoy tasty breakfast treats and coffee while networking with other chamber members.
LOCATION:360 Communities 501 East Highway 13 (across from the Burnsville High School) Burnsville\, MN
UID:e.411.666732
SEQUENCE:3
DTSTAMP:20260425T194118Z
URL:https://members.burnsvillechamber.com/events/details/am-coffee-break-at-360-communities-02-12-2014-666732
END:VEVENT

END:VCALENDAR
