BEGIN:VCALENDAR
VERSION:2.0
PRODID:-//ChamberMaster//Event Calendar 2.0//EN
METHOD:PUBLISH
X-PUBLISHED-TTL:P3D
REFRESH-INTERVAL:P3D
CALSCALE:GREGORIAN
BEGIN:VEVENT
DTSTART:20141118T003000Z
DTEND:20141118T013000Z
X-MICROSOFT-CDO-ALLDAYEVENT:FALSE
SUMMARY:Alive Workshop
DESCRIPTION:We invite you to join us for this free dinner event. Come listen to the Alive workshop\, enjoy a free meal\, learn what the top three killers are in the American health system and how to avoid them. Learn what your God-given health potential is and how to maintain it at optimal function. Dr. O'Brien shares the Alive message which is changing the way people view health and gives the power back to you. Join the health revolution and take back your health because sick care is no way to live. Seating is limited so please call in advance to reserve your seats. We look forward to seeing you there. http://www.discoverchirohealth.com/alive/
X-ALT-DESC;FMTTYPE=text/html:We invite you to join us for this free dinner event. Come listen to the Alive workshop\, enjoy a free meal\, learn what the top three killers are in the American health system and how to avoid them. Learn what your God-given health potential is and how to maintain it at optimal function. Dr. O&#39\;Brien shares the Alive message which is changing the way people view health and gives the power back to you. Join the health revolution and take back your health because sick care is no way to live. Seating is limited so please call in advance to reserve your seats. We look forward to seeing you there. http://www.discoverchirohealth.com/alive/
LOCATION:Jo Jo's Rise and Wine
UID:e.411.666887
SEQUENCE:3
DTSTAMP:20260425T034911Z
URL:https://members.burnsvillechamber.com/events/details/alive-workshop-11-17-2014-666887
END:VEVENT

END:VCALENDAR
