BEGIN:VCALENDAR
VERSION:2.0
PRODID:-//ChamberMaster//Event Calendar 2.0//EN
METHOD:PUBLISH
X-PUBLISHED-TTL:P3D
REFRESH-INTERVAL:P3D
CALSCALE:GREGORIAN
BEGIN:VEVENT
DTSTART:20140712T160000Z
DTEND:20140712T170000Z
X-MICROSOFT-CDO-ALLDAYEVENT:FALSE
SUMMARY:Aero Drapery & Blind - Feng Shui presented by Debbie Miller
DESCRIPTION:Have you ever wondered how Feng Shui could change your home and life? \n\nJoin us for an Introduction to Feng Shui. \n\nPrize Drawing.
X-ALT-DESC;FMTTYPE=text/html:Have you ever wondered how Feng Shui could change your home and life?&nbsp\;<br />\nJoin us for an&nbsp\;Introduction to Feng Shui.&nbsp\;<br />\nPrize Drawing.<br />\n&nbsp\;
LOCATION:Aero Drapery & Blind 1254 County Road 42 West Burnsville\, MN 55337
UID:e.411.666805
SEQUENCE:3
DTSTAMP:20260425T110347Z
URL:https://members.burnsvillechamber.com/events/details/aero-drapery-blind-feng-shui-presented-by-debbie-miller-07-12-2014-666805
END:VEVENT

END:VCALENDAR
