BEGIN:VCALENDAR
VERSION:2.0
PRODID:-//ChamberMaster//Event Calendar 2.0//EN
METHOD:PUBLISH
X-PUBLISHED-TTL:P3D
REFRESH-INTERVAL:P3D
CALSCALE:GREGORIAN
BEGIN:VEVENT
DTSTART:20131119T220000Z
DTEND:20131119T230000Z
X-MICROSOFT-CDO-ALLDAYEVENT:FALSE
SUMMARY:Abra Auto Body & Glass Inc. Ribbon Cutting Ceremony
DESCRIPTION:Please join us as we congratulate Abra Auto Body & Glass\, Inc. on the expansion of the store located at 510 Southcross Drive in Burnsville.  Enjoy cake and coffee after the ribbon cutting.
X-ALT-DESC;FMTTYPE=text/html:Please join us as we congratulate Abra Auto Body&nbsp\;&amp\; Glass\, Inc.&nbsp\;on the expansion of the store located at 510 Southcross Drive in Burnsville.&nbsp\; Enjoy cake and coffee after the ribbon cutting.
LOCATION:Abra Auto Body & Glass Inc. 510 Southcross Drive Burnsville\, MN
UID:e.411.666720
SEQUENCE:3
DTSTAMP:20260426T005831Z
URL:https://members.burnsvillechamber.com/events/details/abra-auto-body-glass-inc-ribbon-cutting-ceremony-11-19-2013-666720
END:VEVENT

END:VCALENDAR
