BEGIN:VCALENDAR
VERSION:2.0
PRODID:-//ChamberMaster//Event Calendar 2.0//EN
METHOD:PUBLISH
X-PUBLISHED-TTL:P3D
REFRESH-INTERVAL:P3D
CALSCALE:GREGORIAN
BEGIN:VEVENT
DTSTART:20140415T230000Z
DTEND:20140416T010000Z
X-MICROSOFT-CDO-ALLDAYEVENT:FALSE
SUMMARY:6 Course Beer Dinner with Summit Brewing Company & Brunswick Zone!
DESCRIPTION:Enjoy a night out with a fantastic 6 course dinner paired with 6 different Summit beers! Brunswick Zone XL and Summit Brewing Company are pairing up to bring you this evening of great food and bowling! Chef Rob Lang & Brewer Mike Lundell have made some excellent pairings for this 6 course dinner. \n\n\n\nMenu\n\n* Entry Appetizer - Graviax Sushi Rolls served with Summit Horizon Red IPA\n\n* Appetizer - Twice Grilled Venison Roulade served with Summit Extra Pale Ale\n\n* Soup - Duck Wild Rice Soup served with Summit Fest Bier\n\n* Salad - Spinach Trout Salad served with Summit Saga IPA\n\n* Entree - Hickory Smoked Bison Ribeye served with Summit Maibock\n\n* Dessert - Chocolate Fragelico Cheesecake served with Summit Oatmeal Stout\n\n\n\nStay after dinner for some bowling!
X-ALT-DESC;FMTTYPE=text/html:Enjoy a night out with a fantastic 6 course dinner paired with 6 different Summit beers! Brunswick Zone XL and Summit Brewing Company are pairing up to bring you this evening of great food and bowling! Chef Rob Lang &amp\; Brewer Mike Lundell have made some excellent pairings for this 6 course dinner.&nbsp\;<br />\n<br />\nMenu<br />\n* Entry Appetizer&nbsp\;- Graviax Sushi Rolls served with Summit Horizon Red IPA<br />\n* Appetizer - Twice Grilled Venison Roulade served with Summit Extra Pale Ale<br />\n* Soup - Duck Wild Rice Soup served with Summit Fest Bier<br />\n* Salad - Spinach Trout Salad served with Summit Saga IPA<br />\n* Entree - Hickory Smoked Bison Ribeye served with Summit Maibock<br />\n* Dessert - Chocolate Fragelico Cheesecake served with Summit Oatmeal Stout<br />\n<br />\nStay after dinner for some bowling!
LOCATION:Brunswick Zone XL 11129 162nd St West Lakeville\, MN
UID:e.411.666779
SEQUENCE:3
DTSTAMP:20260425T163311Z
URL:https://members.burnsvillechamber.com/events/details/6-course-beer-dinner-with-summit-brewing-company-brunswick-zone-04-15-2014-666779
END:VEVENT

END:VCALENDAR
