BEGIN:VCALENDAR
VERSION:2.0
PRODID:-//ChamberMaster//Event Calendar 2.0//EN
METHOD:PUBLISH
X-PUBLISHED-TTL:P3D
REFRESH-INTERVAL:P3D
CALSCALE:GREGORIAN
BEGIN:VEVENT
DTSTART:20260519T170000Z
DTEND:20260519T180000Z
X-MICROSOFT-CDO-ALLDAYEVENT:FALSE
SUMMARY:2026 Out to Lunch: Chingu Korean Fried Chicken (May)
DESCRIPTION:Date: May 19\, 2026\n\nTime: 12pm-1pm\n\nLocation: Chingu Korean Fried Chicken\n\nFees: Pay for your meal\; get the networking and fun for free\n\n\n\nJoin us at Chingu Korean Fried Chicken for our monthly Out to Lunch an opportunity to connect with fellow Chamber members while supporting a local business. This casual\, unstructured gathering is designed to foster meaningful conversations\, strengthen relationships\, and keep you engaged with the business community. There's no formal program simply order and pay for your meal\, then enjoy the value of connection.\n\n\n\nWhether you stay for a quick bite or the full hour\, it's a convenient and enjoyable way to be visible\, stay informed\, and grow your network.
X-ALT-DESC;FMTTYPE=text/html:<strong style="color: rgb(0\, 0\, 255)\; font-size: 16px\;">Date: May 19\, 2026<br />\nTime: 12pm-1pm<br />\nLocation: Chingu Korean Fried Chicken<br />\nFees: Pay for your meal\; get the networking and fun for free</strong><br />\n<br />\nJoin us at <strong>Chingu Korean Fried Chicken</strong> for our monthly Out to Lunch&mdash\;an opportunity to connect with fellow Chamber members while supporting a local business. This casual\, unstructured gathering is designed to foster meaningful conversations\, strengthen relationships\, and keep you engaged with the business community. There&rsquo\;s no formal program&mdash\;simply order and pay for your meal\, then enjoy the value of connection.<br />\n<br />\nWhether you stay for a quick bite or the full hour\, it&rsquo\;s a convenient and enjoyable way to be visible\, stay informed\, and grow your network.
LOCATION:915 County Road 42 W. Burnsville\, Minnesota
UID:e.411.670851
SEQUENCE:3
DTSTAMP:20260420T164726Z
URL:https://members.burnsvillechamber.com/events/details/2026-out-to-lunch-chingu-korean-fried-chicken-may-670851
END:VEVENT

END:VCALENDAR
