BEGIN:VCALENDAR
VERSION:2.0
PRODID:-//ChamberMaster//Event Calendar 2.0//EN
METHOD:PUBLISH
X-PUBLISHED-TTL:P3D
REFRESH-INTERVAL:P3D
CALSCALE:GREGORIAN
BEGIN:VEVENT
DTSTART:20260501T130000Z
DTEND:20260501T143000Z
X-MICROSOFT-CDO-ALLDAYEVENT:FALSE
SUMMARY:2026 Burnsville Business Briefings: Beyond the Call: Fire & Emergency Medical Services Briefing: (May)
DESCRIPTION:Virtual\, easy to attend via Zoom!\n\nFriday\, May 1\n\n8:00 - 9:30 am\n\nFree. Exclusive to Members!\n\nRegistration Required - to receive zoom link.\n\nYou will receive the zoom link in your registration confirmation email.\n\n\n\nMay Focus Topic: Beyond the Call: Fire & Emergency Medical Services Briefing\n\nGo beyond the sirens and get an inside look at the evolving role of Fire & Emergency Medical Services in our community.\n\nJoin us for a special Business Briefing featuring Fire Chief BJ Jungmann\, who will share insights on the growing demand for service\, advancements in emergency response like whole blood programs\, and the critical focus on the health and wellness of today's firefighter/paramedics. He'll also discuss what's ahead for the Burnsville Fire Department as it continues to adapt to meet the changing needs of our community.\n\nThis is a great opportunity to better understand how public safety intersects with the business community because a strong\, well-supported emergency response system plays a vital role in keeping Burnsville a safe and thriving place to live\, work\, and do business.\n\n\n\n\n\nAbout Burnsville Business Briefings\n\nBurnsville Business Briefings are monthly programs featuring a timely\, relevant topic related to economic development\, transportation\, business advocacy\, workforce and business-school partnerships.\n\n\n\nIn addition to the focus topic\, each program includes updates from the City\, Schools\, Chamber and time for member-driven discussions.
X-ALT-DESC;FMTTYPE=text/html:<p data-end="430" data-start="199"><br />\nVirtual\, easy to attend via Zoom!<br />\n<strong>Friday\, May 1<br />\n8:00 - 9:30 am</strong><br />\nFree. Exclusive to Members!<br />\nRegistration Required - to receive zoom link.<br />\nYou&nbsp\;will receive the zoom link in your registration confirmation email.<br />\n<br />\n<strong>May Focus Topic:&nbsp\;</strong>Beyond the Call: Fire &amp\; Emergency Medical Services Briefing</p>\n\n<p data-end="258" data-start="139">Go beyond the sirens and get an inside look at the evolving role of Fire &amp\; Emergency Medical Services in our community.</p>\n\n<p data-end="680" data-start="260">Join us for a special Business Briefing featuring <strong data-end="336" data-start="310">Fire Chief BJ Jungmann</strong>\, who will share insights on the growing demand for service\, advancements in emergency response like whole blood programs\, and the critical focus on the health and wellness of today&rsquo\;s firefighter/paramedics. He&rsquo\;ll also discuss what&rsquo\;s ahead for the Burnsville Fire Department as it continues to adapt to meet the changing needs of our community.</p>\n\n<p data-end="945" data-start="682">This is a great opportunity to better understand how public safety intersects with the business community&mdash\;because a strong\, well-supported emergency response system plays a vital role in keeping Burnsville a safe and thriving place to live\, work\, and do business.</p>\n\n<p data-end="430" data-start="199"><br />\n<br />\n<strong>About Burnsville Business Briefings</strong><br />\n<em>Burnsville Business Briefings are monthly programs featuring a timely\, relevant topic related to economic development\, transportation\, business advocacy\, workforce and business-school partnerships.<br />\n<br />\nIn addition to the focus topic\, each program includes updates from the City\, Schools\, Chamber and time for member-driven discussions.</em></p>\n
LOCATION:Virtual\, easy to attend via Zoom!
UID:e.411.670843
SEQUENCE:3
DTSTAMP:20260423T021632Z
URL:https://members.burnsvillechamber.com/events/details/2026-burnsville-business-briefings-beyond-the-call-fire-emergency-medical-services-briefing-may-670843
END:VEVENT

END:VCALENDAR
